BEGIN:VCALENDAR
PRODID:-//eluceo/ical//2.0/EN
VERSION:2.0
CALSCALE:GREGORIAN
BEGIN:VEVENT
UID:35bfd46a54790d2d5111c8dbe4988169
DTSTAMP:20260421T010655Z
SUMMARY:9:08 PM Jacksonville Jewish Center Shavout Yom Tov Ends
DESCRIPTION:Jewish Federation & Foundation of Northeast Florida\nCommunity 
 Calendar\nhttps://jewishjacksonville.org/jewish-federation-of-jacksonville
 -calendar/908-pm-jacksonville-jewish-center-shavout-yom-tov-ends\n\nYom To
 v is over 
DTSTART;TZID=America/New_York:20220606T210800
DTEND;TZID=America/New_York:20220606T210800
END:VEVENT
END:VCALENDAR
