BEGIN:VCALENDAR
PRODID:-//eluceo/ical//2.0/EN
VERSION:2.0
CALSCALE:GREGORIAN
BEGIN:VEVENT
UID:8efc7da668bd54186ccb8293ba7be94a
DTSTAMP:20260422T005557Z
SUMMARY:9:06 PM Jacksonville Jewish Center Candle Lighting
DESCRIPTION:Jewish Federation & Foundation of Northeast Florida\nCommunity 
 Calendar\nhttps://jewishjacksonville.org/jewish-federation-of-jacksonville
 -calendar/906-pm-jacksonville-jewish-center-candle-lighting\n\nCandle ligh
 ting
DTSTART;TZID=America/New_York:20220605T210600
DTEND;TZID=America/New_York:20220605T210600
END:VEVENT
END:VCALENDAR
