BEGIN:VCALENDAR
PRODID:-//eluceo/ical//2.0/EN
VERSION:2.0
CALSCALE:GREGORIAN
BEGIN:VEVENT
UID:f3b13209ec9a5d8f7b6a7faadf1518bf
DTSTAMP:20260424T062959Z
SUMMARY:9:00am JJC Sisterhood Shabbat
DESCRIPTION:Jewish Federation & Foundation of Northeast Florida\nCommunity 
 Calendar\nhttps://jewishjacksonville.org/jewish-federation-of-jacksonville
 -calendar/900am-jjc-sisterhood-shabbat\n\nPlease join JJC Sisterhood to ce
 lebrate Shabbat
DTSTART;TZID=America/New_York:20160319T090000
DTEND;TZID=America/New_York:20160319T123000
END:VEVENT
END:VCALENDAR
