BEGIN:VCALENDAR
PRODID:-//eluceo/ical//2.0/EN
VERSION:2.0
CALSCALE:GREGORIAN
BEGIN:VEVENT
UID:1fe10c8e2d149ae66c065b5d469bbe73
DTSTAMP:20260424T214820Z
SUMMARY:9:00AM Congregation Ahavath Chesed_Parent and Me.4
DESCRIPTION:Jewish Federation & Foundation of Northeast Florida\nCommunity 
 Calendar\nhttps://jewishjacksonville.org/jewish-federation-of-jacksonville
 -calendar/900am-congregation-ahavath-chesed_parent-and-me4\n\nParent-and-M
 e Playdates\n\nJoin us at the Temple for Music & Movement\, Story Time\, C
 rafts\, and More!\n\nFree and open to the Community. \n\nActivities are g
 eared to ages 0-6 and their caregivers (older siblings welcome).\n\n9:00a
 m Breakfast\n\n9:30am Songs in the Sanctuary\n\n10am Craft and Story Time\
 n\nSee you Sunday!\n\nRSVP to: youthengagement@thetemplejax.org
DTSTART;TZID=America/New_York:20230521T090000
DTEND;TZID=America/New_York:20230521T110000
END:VEVENT
END:VCALENDAR
