BEGIN:VCALENDAR
PRODID:-//eluceo/ical//2.0/EN
VERSION:2.0
CALSCALE:GREGORIAN
BEGIN:VEVENT
UID:d8f553dcffb0a3f30fec727f6895fba7
DTSTAMP:20260425T171832Z
SUMMARY:9:00am Congregation Ahavath Chesed Parent & Me Playdates_10.9
DESCRIPTION:Jewish Federation & Foundation of Northeast Florida\nCommunity 
 Calendar\nhttps://jewishjacksonville.org/jewish-federation-of-jacksonville
 -calendar/900am-congregation-ahavath-chesed-parent-me-playdates_109\n\nPar
 ent-and-Me Playdates\n\nJoin us at the Temple for Music & Movement\, Story
  Time\, Crafts\, and More!\n\nFree and open to the Community. \n\nActivit
 ies are geared to ages 0-6 and their caregivers (older siblings welcome).
 \n\n9:00am Breakfast\n\n9:30am Songs in the Sanctuary\n\n10am Craft and St
 ory Time\n\nSee you Sunday!\n\nRSVP to: youthengagement@thetemplejax.org
DTSTART;TZID=America/New_York:20221009T090000
DTEND;TZID=America/New_York:20221009T110000
END:VEVENT
END:VCALENDAR
