BEGIN:VCALENDAR
PRODID:-//eluceo/ical//2.0/EN
VERSION:2.0
CALSCALE:GREGORIAN
BEGIN:VEVENT
UID:035184b5d0d99db7d1f5af32face6a33
DTSTAMP:20260424T062340Z
SUMMARY:9:00AM Foundation "Life & Legacy" training session with Arlene Schi
 ff
DESCRIPTION:Jewish Federation & Foundation of Northeast Florida\nCommunity 
 Calendar\nhttps://jewishjacksonville.org/jewish-federation-of-jacksonville
 -calendar/900-am-life-legacy-training-session-with-arlene-schiff\n\nJewish
  Community Foundation of NE Florida "Life & Legacy" training session #2 wi
 th Arlene Schiff.
DTSTART;TZID=America/New_York:20160107T090000
DTEND;TZID=America/New_York:20160107T110000
END:VEVENT
END:VCALENDAR
