BEGIN:VCALENDAR
PRODID:-//eluceo/ical//2.0/EN
VERSION:2.0
CALSCALE:GREGORIAN
BEGIN:VEVENT
UID:6835240a3ddd33f33cd11877c4154241
DTSTAMP:20260423T225024Z
SUMMARY:9:00 AM JJC Passover Day 8 In-Person & Virtual Morning Service
DESCRIPTION:Jewish Federation & Foundation of Northeast Florida\nCommunity 
 Calendar\nhttps://jewishjacksonville.org/jewish-federation-of-jacksonville
 -calendar/900-am-jjc-passover-day-8-in-person-virtual-morning-service\n\nP
 assover Day 8 In-Person & Virtual Morning Service\n\nSunday\, April 4⋅9:
 00am – 12:00pm\n\n\n\n\nWeekly on Sunday\n\n\n\n\n\n\n\nLocation:\n\n\nV
 irtual\n\n \n\n\n\n\n\n\n\nDescription:Sunday Morning Services: Sunday
 s at 8:30 AM Click Here to Join Phone: 929 205 6099 Meeting ID: 818 258 83
 8\n\n \n\n \n\n \n\nhttps://www.jaxjewishcenter.org/jewish-life/holiday
 s/passover/\n\n \n\n \n\n \n\n 
DTSTART;TZID=America/New_York:20210404T090000
DTEND;TZID=America/New_York:20210404T120000
END:VEVENT
END:VCALENDAR
