BEGIN:VCALENDAR
PRODID:-//eluceo/ical//2.0/EN
VERSION:2.0
CALSCALE:GREGORIAN
BEGIN:VEVENT
UID:d397415abc4d634cfddc14657e2c7560
DTSTAMP:20260424T215837Z
SUMMARY:9:00 AM jacksonville Jewish Center Sukkot Day 1 morning services Vi
 rtual
DESCRIPTION:Jewish Federation & Foundation of Northeast Florida\nCommunity 
 Calendar\nhttps://jewishjacksonville.org/jewish-federation-of-jacksonville
 -calendar/900-am-jacksonville-jewish-center-sukkot-day-1-morning-services-
 virtual\n\nVirtual - Sukkot Day 1 Morning Services (live stream)\n\nSaturd
 ay\, October 3⋅9:00 – 11:05am\n\n 
DTSTART;TZID=America/New_York:20201003T090000
DTEND;TZID=America/New_York:20201003T110000
END:VEVENT
END:VCALENDAR
