BEGIN:VCALENDAR
PRODID:-//eluceo/ical//2.0/EN
VERSION:2.0
CALSCALE:GREGORIAN
BEGIN:VEVENT
UID:8d3a020d7a6b0cf1e92fc34bc9176139
DTSTAMP:20260420T160012Z
SUMMARY:9:00 AM Jacksonville Jewish Center Pesach Day 2
DESCRIPTION:Jewish Federation & Foundation of Northeast Florida\nCommunity 
 Calendar\nhttps://jewishjacksonville.org/jewish-federation-of-jacksonville
 -calendar/900-am-jacksonville-jewish-center-pesach-day-2\n\nhttps://www.ja
 xjewishcenter.org/engage/full-calendar/
DTSTART;TZID=America/New_York:20220417T090000
DTEND;TZID=America/New_York:20220417T120000
END:VEVENT
END:VCALENDAR
