BEGIN:VCALENDAR
PRODID:-//eluceo/ical//2.0/EN
VERSION:2.0
CALSCALE:GREGORIAN
BEGIN:VEVENT
UID:1190a4c6b97692a9a9a7c4366c5ac919
DTSTAMP:20260424T063109Z
SUMMARY:9:00 AM Jacksonville Jewish Center Passover Day 2
DESCRIPTION:Jewish Federation & Foundation of Northeast Florida\nCommunity 
 Calendar\nhttps://jewishjacksonville.org/jewish-federation-of-jacksonville
 -calendar/900-am-jacksonville-jewish-center-passover-day-2\n\nhttps://www.
 jaxjewishcenter.org/engage/full-calendar/\n\n 
DTSTART;TZID=America/New_York:20220417T090000
DTEND;TZID=America/New_York:20220417T120000
END:VEVENT
END:VCALENDAR
