BEGIN:VCALENDAR
PRODID:-//eluceo/ical//2.0/EN
VERSION:2.0
CALSCALE:GREGORIAN
BEGIN:VEVENT
UID:639dd740fbdadcac5cb81d8982abf2bd
DTSTAMP:20260421T060326Z
SUMMARY:9:00 AM Federation Jewish Java
DESCRIPTION:Jewish Federation & Foundation of Northeast Florida\nCommunity 
 Calendar\nhttps://jewishjacksonville.org/jewish-federation-of-jacksonville
 -calendar/900-am-federation-jewish-java-march\n\nAre you new to the commun
 ity? Been in Jacksonville a few years but looking to make Jewish connectio
 ns? Do you like to schmooze?  If so the Jewish Federation’s Shalom Jac
 ksonville invites you to a monthly coffee and schmoozing program\, Jewis
 h Java\, the first Wednesday of every month from 9-10:30 a.m at River 
 Garden. It’s the perfect place to meet new people\, catch up with old fr
 iends and acquaintances and find out the latest happenings in the Jewish c
 ommunity. A complimentary bagel...
DTSTART;TZID=America/New_York:20170301T090000
DTEND;TZID=America/New_York:20170301T103000
END:VEVENT
END:VCALENDAR
