BEGIN:VCALENDAR
PRODID:-//eluceo/ical//2.0/EN
VERSION:2.0
CALSCALE:GREGORIAN
BEGIN:VEVENT
UID:d5529b51fb73fcb17050a603d67416bd
DTSTAMP:20260422T003344Z
SUMMARY:9:00 AM Etz Chaim FUNDRAISER - Ackerman Torah Scroll Dedication
DESCRIPTION:Jewish Federation & Foundation of Northeast Florida\nCommunity 
 Calendar\nhttps://jewishjacksonville.org/jewish-federation-of-jacksonville
 -calendar/900-am-etz-chaim-fundraiser-ackerman-torah-scroll-dedication\n\n
 More details to be announced soon!
DTSTART;TZID=America/New_York:20200126T090000
DTEND;TZID=America/New_York:20200126T210000
END:VEVENT
END:VCALENDAR
