BEGIN:VCALENDAR
PRODID:-//eluceo/ical//2.0/EN
VERSION:2.0
CALSCALE:GREGORIAN
BEGIN:VEVENT
UID:fde72fc81c2502ff649c05d122df4b96
DTSTAMP:20260421T224857Z
SUMMARY:9 AM\, JCA\, Evergreen Cemetery Tour and Lunch
DESCRIPTION:Jewish Federation & Foundation of Northeast Florida\nCommunity 
 Calendar\nhttps://jewishjacksonville.org/jewish-federation-of-jacksonville
 -calendar/9-am-jca\n\nEvergreen Cemetery Tour and Lunch\n\n\n\n\n\nThe Ev
 ergreen Cemetery is the oldest cemetery still in operation in Jacksonville
 . Join us in the city's\nhistoric cemetery space as Gary Sass takes us on 
 a tour to explore the fascinating history buried within our city.\nTranspo
 rtation from the JCA is included. Lunch will be at your own expense. \nLim
 ited to 14 people.\nReservations are required by Sep 27.\n\nWed\, Oct 6 |
  9:00 am\n$42 | Valued member $28 \n\nPlease register at https://bit...
DTSTART;TZID=America/New_York:20211006T090000
DTEND;TZID=America/New_York:20211006T120000
END:VEVENT
END:VCALENDAR
