BEGIN:VCALENDAR
PRODID:-//eluceo/ical//2.0/EN
VERSION:2.0
CALSCALE:GREGORIAN
BEGIN:VEVENT
UID:3d82b7bbb2b646ffe6dbf9751bb40911
DTSTAMP:20260422T232247Z
SUMMARY:8AM MJGDS Teacher Inservice Day
DESCRIPTION:Jewish Federation & Foundation of Northeast Florida\nCommunity 
 Calendar\nhttps://jewishjacksonville.org/jewish-federation-of-jacksonville
 -calendar/8am-mjgds-teacher-inservice-day-8268\n\n8AM MJGDS Teacher Inserv
 ice Day
DTSTART;TZID=America/New_York:20140519T080000
DTEND;TZID=America/New_York:20140519T160000
END:VEVENT
END:VCALENDAR
