BEGIN:VCALENDAR
PRODID:-//eluceo/ical//2.0/EN
VERSION:2.0
CALSCALE:GREGORIAN
BEGIN:VEVENT
UID:11d74e1575b746f3a55c176fd2272bdd
DTSTAMP:20260425T204424Z
SUMMARY:8AM JJC Coffee and Torah
DESCRIPTION:Jewish Federation & Foundation of Northeast Florida\nCommunity 
 Calendar\nhttps://jewishjacksonville.org/jewish-federation-of-jacksonville
 -calendar/8am-jjc-coffee-and-torah\n\nStudy session with Rabbi Lubliner at
  the JJC from 8-9 every third Saturday of the month.
DTSTART;TZID=America/New_York:20140816T080000
DTEND;TZID=America/New_York:20140816T090000
END:VEVENT
END:VCALENDAR
