BEGIN:VCALENDAR
PRODID:-//eluceo/ical//2.0/EN
VERSION:2.0
CALSCALE:GREGORIAN
BEGIN:VEVENT
UID:25185f0fe1748de308d824e726e02ef8
DTSTAMP:20260424T202524Z
SUMMARY:8AM JJC Annual Purim Family Event
DESCRIPTION:Jewish Federation & Foundation of Northeast Florida\nCommunity 
 Calendar\nhttps://jewishjacksonville.org/jewish-federation-of-jacksonville
 -calendar/8am-jjc-annual-purim-family-event-48809\n\n8AM JJC Annual Purim 
 Family Event
DTSTART;TZID=America/New_York:20140316T080000
DTEND;TZID=America/New_York:20140316T130000
END:VEVENT
END:VCALENDAR
