BEGIN:VCALENDAR
PRODID:-//eluceo/ical//2.0/EN
VERSION:2.0
CALSCALE:GREGORIAN
BEGIN:VEVENT
UID:4bce7aff4bed76baef23154cbe7c7112
DTSTAMP:20260423T174642Z
SUMMARY:8AM JCA Michele Block Gan Yeladim Preschool Opens
DESCRIPTION:Jewish Federation & Foundation of Northeast Florida\nCommunity 
 Calendar\nhttps://jewishjacksonville.org/jewish-federation-of-jacksonville
 -calendar/8am-jca-michele-block-gan-yeladim-preschool-opens\n\n8AM JCA Mic
 hele Block Gan Yeladim Preschool Opens
DTSTART;TZID=America/New_York:20130826T000000
DTEND;TZID=America/New_York:20130826T235900
END:VEVENT
END:VCALENDAR
