BEGIN:VCALENDAR
PRODID:-//eluceo/ical//2.0/EN
VERSION:2.0
CALSCALE:GREGORIAN
BEGIN:VEVENT
UID:12192da37a1a3449ac49e2bc7fd48053
DTSTAMP:20260426T042130Z
SUMMARY:8AM JCA Gan Yeladim Preschool Year-End Program
DESCRIPTION:Jewish Federation & Foundation of Northeast Florida\nCommunity 
 Calendar\nhttps://jewishjacksonville.org/jewish-federation-of-jacksonville
 -calendar/8am-jca-gan-yeladim-preschool-year-end-program\n\n8AM JCA Gan Ye
 ladim Preschool Year-End Program
DTSTART;TZID=America/New_York:20130605T000000
DTEND;TZID=America/New_York:20130605T235900
END:VEVENT
END:VCALENDAR
