BEGIN:VCALENDAR
PRODID:-//eluceo/ical//2.0/EN
VERSION:2.0
CALSCALE:GREGORIAN
BEGIN:VEVENT
UID:788f0ccaef72bc66315eec184a1a7cd2
DTSTAMP:20260422T091913Z
SUMMARY:*8AM - FUNDRAISER 21st Annual River Garden Classic Golf Tournament
DESCRIPTION:Jewish Federation & Foundation of Northeast Florida\nCommunity 
 Calendar\nhttps://jewishjacksonville.org/jewish-federation-of-jacksonville
 -calendar/8am-fundraiser-20th-annual-river-garden-classic-golf-tournament\
 n\n21st Annual River Garden Classic Golf Tournament\n\n 
DTSTART;TZID=America/New_York:20180425T080000
DTEND;TZID=America/New_York:20180425T130000
END:VEVENT
END:VCALENDAR
