BEGIN:VCALENDAR
PRODID:-//eluceo/ical//2.0/EN
VERSION:2.0
CALSCALE:GREGORIAN
BEGIN:VEVENT
UID:ee52ad7a902f68529ee799f422b6f3d1
DTSTAMP:20260421T141627Z
SUMMARY:8:45PM High Holy Days 5774 - Selihot Programming
DESCRIPTION:Jewish Federation & Foundation of Northeast Florida\nCommunity 
 Calendar\nhttps://jewishjacksonville.org/jewish-federation-of-jacksonville
 -calendar/845pm-high-holy-days-5774---selihot-programming-48536\n\n8:45PM 
 JJC Selihot Programming
DTSTART;TZID=America/New_York:20130831T204500
DTEND;TZID=America/New_York:20130831T231500
END:VEVENT
END:VCALENDAR
