BEGIN:VCALENDAR
PRODID:-//eluceo/ical//2.0/EN
VERSION:2.0
CALSCALE:GREGORIAN
BEGIN:VEVENT
UID:4aad3b334a752e6368061640b2b06556
DTSTAMP:20260423T222116Z
SUMMARY:8:33 PM Jacksonville Jewish Center Yom Tov ends
DESCRIPTION:Jewish Federation & Foundation of Northeast Florida\nCommunity 
 Calendar\nhttps://jewishjacksonville.org/jewish-federation-of-jacksonville
 -calendar/833-pm-jacksonville-jewish-center-yom-tov-ends\n\nYom Tov ends 
DTSTART;TZID=America/New_York:20220417T203300
DTEND;TZID=America/New_York:20220417T203300
END:VEVENT
END:VCALENDAR
