BEGIN:VCALENDAR
PRODID:-//eluceo/ical//2.0/EN
VERSION:2.0
CALSCALE:GREGORIAN
BEGIN:VEVENT
UID:a5e8beb3a03fbe6474b0a6197023dbc7
DTSTAMP:20260424T093714Z
SUMMARY:8:30AM JJC Academy Programming - New Parent Orientation
DESCRIPTION:Jewish Federation & Foundation of Northeast Florida\nCommunity 
 Calendar\nhttps://jewishjacksonville.org/jewish-federation-of-jacksonville
 -calendar/830am-jjc-academy-programming---new-parent-orientation-48532\n\n
 8:30AM JJC New Parent Orientation
DTSTART;TZID=America/New_York:20130819T083000
DTEND;TZID=America/New_York:20130819T093000
END:VEVENT
END:VCALENDAR
