BEGIN:VCALENDAR
PRODID:-//eluceo/ical//2.0/EN
VERSION:2.0
CALSCALE:GREGORIAN
BEGIN:VEVENT
UID:58842e18f48254ecd4018493833c770e
DTSTAMP:20260421T110941Z
SUMMARY:8:30 AM JCA St. Augustine’s Gilded Age
DESCRIPTION:Jewish Federation & Foundation of Northeast Florida\nCommunity 
 Calendar\nhttps://jewishjacksonville.org/jewish-federation-of-jacksonville
 -calendar/830-am-jca-st-augustines-gilded-age\n\nSt. Augustine’s Gilded 
 Age: A Playground for the Rich and Famous\, Plus Lunch\n\n\n\n\n\nDiscove
 r some of the most beautiful and historically rich parts of St. Augustine 
 on this guided tour. We'll also tour Flagler College during this off-site
  adventure. Transportation from the JCA is provided. Lunch is at your own 
 expense. \n\nMon\, Jun 6 | 8:30 am \n$65 | Valued member $43\n\nFor mo
 re information\, please contact Laura Anderson at laura.anderson@jcajax.or
 g.
DTSTART;TZID=America/New_York:20220606T083000
DTEND;TZID=America/New_York:20220606T130000
END:VEVENT
END:VCALENDAR
