BEGIN:VCALENDAR
PRODID:-//eluceo/ical//2.0/EN
VERSION:2.0
CALSCALE:GREGORIAN
BEGIN:VEVENT
UID:ac4bf14e2fe403e3b689f985bcd83bee
DTSTAMP:20260421T081852Z
SUMMARY:8:30 AM Jacksonville Jewish Center Virtual Morning Service
DESCRIPTION:Jewish Federation & Foundation of Northeast Florida\nCommunity 
 Calendar\nhttps://jewishjacksonville.org/jewish-federation-of-jacksonville
 -calendar/830-am-jacksonville-jewish-center-virtual-morning-services\n\nht
 tps://www.jaxjewishcenter.org/engage/full-calendar/\n\n \n\nSunday Mornin
 g Services: Sundays at 8:30 AM\n\nPhone: 929 205 6099 Meeting ID: 818 258 
 838
DTSTART;TZID=America/New_York:20200913T083000
DTEND;TZID=America/New_York:20200913T091500
END:VEVENT
END:VCALENDAR
