BEGIN:VCALENDAR
PRODID:-//eluceo/ical//2.0/EN
VERSION:2.0
CALSCALE:GREGORIAN
BEGIN:VEVENT
UID:6ff90a9b79e363414d2e4ad0fef77e86
DTSTAMP:20260421T195413Z
SUMMARY:8:30 AM Jacksonville Jewish Center Rosh Hashanah Services in person
  virtual
DESCRIPTION:Jewish Federation & Foundation of Northeast Florida\nCommunity 
 Calendar\nhttps://jewishjacksonville.org/jewish-federation-of-jacksonville
 -calendar/830-am-jacksonville-jewish-center-rosh-hashanah-services-in-pers
 on-virtual\n\nRosh Hashanah Service - Day 1 (in person & virtual)\n\nhttps
 ://www.jaxjewishcenter.org/engage/full-calendar/
DTSTART;TZID=America/New_York:20210907T083000
DTEND;TZID=America/New_York:20210907T120000
END:VEVENT
END:VCALENDAR
