BEGIN:VCALENDAR
PRODID:-//eluceo/ical//2.0/EN
VERSION:2.0
CALSCALE:GREGORIAN
BEGIN:VEVENT
UID:ef6fcc8a8d107b7c879559b53bbb25dc
DTSTAMP:20260425T222636Z
SUMMARY:8:25PM HOME Jacksonville Jaguars vs. Tennessee Titans
DESCRIPTION:Jewish Federation & Foundation of Northeast Florida\nCommunity 
 Calendar\nhttps://jewishjacksonville.org/jewish-federation-of-jacksonville
 -calendar/825pm-home-jacksonville-jaguars-vs-tennessee-titans\n\nHome game
  - Jacksonville Jaguars vs. Tennessee Titans
DTSTART;TZID=America/New_York:20151119T202500
DTEND;TZID=America/New_York:20151119T235500
END:VEVENT
END:VCALENDAR
