BEGIN:VCALENDAR
PRODID:-//eluceo/ical//2.0/EN
VERSION:2.0
CALSCALE:GREGORIAN
BEGIN:VEVENT
UID:4e4093edcd30d825e723a393adbf9a47
DTSTAMP:20260423T092230Z
SUMMARY:8:15 AM The Temple Life Line Screening Community Circle Program
DESCRIPTION:Jewish Federation & Foundation of Northeast Florida\nCommunity 
 Calendar\nhttps://jewishjacksonville.org/jewish-federation-of-jacksonville
 -calendar/815-am-the-temple-life-line-screening-community-circle-program\n
 \n
DTSTART;TZID=America/New_York:20200220T081500
DTEND;TZID=America/New_York:20200220T173000
END:VEVENT
END:VCALENDAR
