BEGIN:VCALENDAR
PRODID:-//eluceo/ical//2.0/EN
VERSION:2.0
CALSCALE:GREGORIAN
BEGIN:VEVENT
UID:353cd7fa31f501751282504f2f1191a1
DTSTAMP:20260425T172007Z
SUMMARY:8:00 PM JJC Shavu'ot Evening Services
DESCRIPTION:Jewish Federation & Foundation of Northeast Florida\nCommunity 
 Calendar\nhttps://jewishjacksonville.org/jewish-federation-of-jacksonville
 -calendar/800-pm-jjc-shavuot-evening-services\n\nShavous Evening Services
DTSTART;TZID=America/New_York:20220606T200000
DTEND;TZID=America/New_York:20220606T210000
END:VEVENT
END:VCALENDAR
