BEGIN:VCALENDAR
PRODID:-//eluceo/ical//2.0/EN
VERSION:2.0
CALSCALE:GREGORIAN
BEGIN:VEVENT
UID:9c3c423b3f08f8526cfe121bc0806b1f
DTSTAMP:20260420T141822Z
SUMMARY:8:00 PM Jacksonville Jewish Center traditional seder
DESCRIPTION:Jewish Federation & Foundation of Northeast Florida\nCommunity 
 Calendar\nhttps://jewishjacksonville.org/jewish-federation-of-jacksonville
 -calendar/800-pm-jacksonville-jewish-center-traditional-seder\n\nPassover 
 First Night 
DTSTART;TZID=America/New_York:20220415T200000
DTEND;TZID=America/New_York:20220415T230000
END:VEVENT
END:VCALENDAR
