BEGIN:VCALENDAR
PRODID:-//eluceo/ical//2.0/EN
VERSION:2.0
CALSCALE:GREGORIAN
BEGIN:VEVENT
UID:8ed5d7e732f2684467c96dd01f8e5f55
DTSTAMP:20260423T043217Z
SUMMARY:8:00 PM Jacksonville Jewish Center Sponsored Event Comedian Benji L
 ovitt
DESCRIPTION:Jewish Federation & Foundation of Northeast Florida\nCommunity 
 Calendar\nhttps://jewishjacksonville.org/jewish-federation-of-jacksonville
 -calendar/800-pm-jacksonville-jewish-center-sponsored-event-comedian-benji
 -lovitt\n\nBenji Lovitt Comedy Show\n\nWhen: Thursday\, June 11\, at 8:00 
 PM\n\n \n\n﻿(Zoom Link is available by RSVP to memberoutreach@jaxjewis
 hcenter.org or by calling 904-292-1000.)\n\n \n\nJewish Quarantine\n\nHo
 sted by the Institute of Southern Jewish Life and sponsored by the Jackson
 ville Jewish Center\, Benji brings his hilarious standup straight to your 
 living room. Experience his insights into Israel combined with a look at "
 Zoom Seders" and streaming T'filah.
DTSTART;TZID=America/New_York:20200611T200000
DTEND;TZID=America/New_York:20200611T213000
END:VEVENT
END:VCALENDAR
