BEGIN:VCALENDAR
PRODID:-//eluceo/ical//2.0/EN
VERSION:2.0
CALSCALE:GREGORIAN
BEGIN:VEVENT
UID:8e9a7ab4b4e5b5ddfe4587111e05af17
DTSTAMP:20260422T055844Z
SUMMARY:8:00 PM Jacksonville Jewish Center Simchat Torah Evening Services Z
 oom
DESCRIPTION:Jewish Federation & Foundation of Northeast Florida\nCommunity 
 Calendar\nhttps://jewishjacksonville.org/jewish-federation-of-jacksonville
 -calendar/800-pm-jacksonville-jewish-center-simchat-torah-evening-services
 -zoom\n\nSimchat Torah Evening Services\n\nhttps://www.jaxjewishcenter.org
 /jewish-life/holidays/hhd5781/virtualhhd/
DTSTART;TZID=America/New_York:20201010T200000
DTEND;TZID=America/New_York:20201010T210000
END:VEVENT
END:VCALENDAR
