BEGIN:VCALENDAR
PRODID:-//eluceo/ical//2.0/EN
VERSION:2.0
CALSCALE:GREGORIAN
BEGIN:VEVENT
UID:844931c31c8b2451ce452c92d0c6fdb6
DTSTAMP:20260422T193642Z
SUMMARY:8:00 PM Jacksonville Jewish Center Virual Evening Services
DESCRIPTION:Jewish Federation & Foundation of Northeast Florida\nCommunity 
 Calendar\nhttps://jewishjacksonville.org/jewish-federation-of-jacksonville
 -calendar/800-pm\n\n8:00 pm Evening Minyan (Monday through Thursday) will
  be accessible by zoom \nhttps://zoom.us/j/636430568\nPhone: 929 205 6099
  Meeting ID: 636 430 568
DTSTART;TZID=America/New_York:20200521T200000
DTEND;TZID=America/New_York:20200521T203000
END:VEVENT
END:VCALENDAR
