BEGIN:VCALENDAR
PRODID:-//eluceo/ical//2.0/EN
VERSION:2.0
CALSCALE:GREGORIAN
BEGIN:VEVENT
UID:cba447e2c863f3ad8e2a0dcd2dec6305
DTSTAMP:20260424T202615Z
SUMMARY:8:00 AM Jacksonville Jewish Center Virtual Morning Services
DESCRIPTION:Jewish Federation & Foundation of Northeast Florida\nCommunity 
 Calendar\nhttps://jewishjacksonville.org/jewish-federation-of-jacksonville
 -calendar/800-am-jacksonville-jewish-center\n\nMonday - Thursday morning s
 ervice will be accessible by zoom\nhttps://zoom.us/j/818258838 \nPhone: 9
 29 205 6099 Meeting ID: 818 258 838
DTSTART;TZID=America/New_York:20200522T080000
DTEND;TZID=America/New_York:20200522T085000
END:VEVENT
END:VCALENDAR
