BEGIN:VCALENDAR
PRODID:-//eluceo/ical//2.0/EN
VERSION:2.0
CALSCALE:GREGORIAN
BEGIN:VEVENT
UID:83a7db92797644bc4aed5ed771ff18f1
DTSTAMP:20260422T035822Z
SUMMARY:7PM Temple Purim Shabbat
DESCRIPTION:Jewish Federation & Foundation of Northeast Florida\nCommunity 
 Calendar\nhttps://jewishjacksonville.org/jewish-federation-of-jacksonville
 -calendar/7pm-temples-purim-shabbat-59682\n\nIt’s a don’t miss night a
 t Temple as we celebrate Purim. Join us for Shabbat worship with the Frida
 y Night \nLive Band. \n\n 
DTSTART;TZID=America/New_York:20140314T190000
DTEND;TZID=America/New_York:20140314T220000
END:VEVENT
END:VCALENDAR
