BEGIN:VCALENDAR
PRODID:-//eluceo/ical//2.0/EN
VERSION:2.0
CALSCALE:GREGORIAN
BEGIN:VEVENT
UID:e79c734652a17f18ea783cdb7c94ff2a
DTSTAMP:20260423T011105Z
SUMMARY:7PM Temple "Taste of Judaism"
DESCRIPTION:Jewish Federation & Foundation of Northeast Florida\nCommunity 
 Calendar\nhttps://jewishjacksonville.org/jewish-federation-of-jacksonville
 -calendar/7pm-temple-taste-of-judaism\n\nWant to learn more about Judaism?
  Join the Temple to enhance your knowledge. Open to the entire community\,
  Jewish or not.
DTSTART;TZID=America/New_York:20150716T190000
DTEND;TZID=America/New_York:20150716T203000
END:VEVENT
END:VCALENDAR
