BEGIN:VCALENDAR
PRODID:-//eluceo/ical//2.0/EN
VERSION:2.0
CALSCALE:GREGORIAN
BEGIN:VEVENT
UID:736747b09e3eaffef40709f13b7cf1d8
DTSTAMP:20260421T091436Z
SUMMARY:7PM Temple - Marriage Reconsecration Shabbat
DESCRIPTION:Jewish Federation & Foundation of Northeast Florida\nCommunity 
 Calendar\nhttps://jewishjacksonville.org/jewish-federation-of-jacksonville
 -calendar/7pm-temple-marriage-reconsecration-shabbat-59288\n\nMarriage Rec
 onsecration Shabbat… Friday\, February 14 at 7:00 p.m.\nAccording to Jew
 ish tradition\, it is our duty to celebrate with the bride and groom\, and
  we don’t believe that celebration stops at the wedding. As part of a lo
 ng-standing tradition\, couples who are celebrating wedding anniversaries 
 ending in “5” or “0” at any time during the year will gather under
  a chuppah for special blessing in the presence of their Temple family. Th
 ere will be a special Oneg Shabbat following ...
DTSTART;TZID=America/New_York:20140214T190000
DTEND;TZID=America/New_York:20140214T223000
END:VEVENT
END:VCALENDAR
