BEGIN:VCALENDAR
PRODID:-//eluceo/ical//2.0/EN
VERSION:2.0
CALSCALE:GREGORIAN
BEGIN:VEVENT
UID:efd2cadc23b74fb3c5b91e565b7f1530
DTSTAMP:20260421T194637Z
SUMMARY:7PM Temple Kabbalat Shabbat
DESCRIPTION:Jewish Federation & Foundation of Northeast Florida\nCommunity 
 Calendar\nhttps://jewishjacksonville.org/jewish-federation-of-jacksonville
 -calendar/7pm-temple-kabbalat-shabbat\n\nJoin the Temple for Shabbat. Frid
 ays at 7:00 p.m.
DTSTART;TZID=America/New_York:20150717T190000
DTEND;TZID=America/New_York:20150718T150000
END:VEVENT
END:VCALENDAR
