BEGIN:VCALENDAR
PRODID:-//eluceo/ical//2.0/EN
VERSION:2.0
CALSCALE:GREGORIAN
BEGIN:VEVENT
UID:6c3af35a885b220b85451c542f5a7fa7
DTSTAMP:20260424T045139Z
SUMMARY:7PM Temple First Friday Shabbat with JAFTY
DESCRIPTION:Jewish Federation & Foundation of Northeast Florida\nCommunity 
 Calendar\nhttps://jewishjacksonville.org/jewish-federation-of-jacksonville
 -calendar/7pm-temple-first-friday-shabbat-with-jafty\n\nFirst Friday Shabb
 at with JAFTY\n\n(Sisterhood oneg)
DTSTART;TZID=America/New_York:20150904T190000
DTEND;TZID=America/New_York:20150904T200000
END:VEVENT
END:VCALENDAR
