BEGIN:VCALENDAR
PRODID:-//eluceo/ical//2.0/EN
VERSION:2.0
CALSCALE:GREGORIAN
BEGIN:VEVENT
UID:943f1acdc8ed2fc20927987f8fe4cda8
DTSTAMP:20260423T024226Z
SUMMARY:7pm Temple 20s & 30s-Latka Palooza
DESCRIPTION:Jewish Federation & Foundation of Northeast Florida\nCommunity 
 Calendar\nhttps://jewishjacksonville.org/jewish-federation-of-jacksonville
 -calendar/7pm-temple-20s-30s-latka-palooza\n\nTemple 20s & 30s Latka Paloo
 za\n\nRSVP for address.\n\nLatka Bar & Refreshments provided!\nBYOB if you
  are particular or would like wine...\n\nThis event is FREE.\n\nBring an u
 nused/unwrapped toy to donate to JFCS for needy children.\n\n \n\nRSVP li
 nk:\n\nhttps://thetemple20sand30s.weebly.com/latka-palooza-rsvp.html
DTSTART;TZID=America/New_York:20181208T190000
DTEND;TZID=America/New_York:20181208T220000
END:VEVENT
END:VCALENDAR
