BEGIN:VCALENDAR
PRODID:-//eluceo/ical//2.0/EN
VERSION:2.0
CALSCALE:GREGORIAN
BEGIN:VEVENT
UID:8a2a7a3fc7268439a45f574404770c7c
DTSTAMP:20260424T002926Z
SUMMARY:7pm Temple 20s & 30s- Pre-fast Italian Dinner
DESCRIPTION:Jewish Federation & Foundation of Northeast Florida\nCommunity 
 Calendar\nhttps://jewishjacksonville.org/jewish-federation-of-jacksonville
 -calendar/7pm-temple-20s-30s--pre-fast-italian-dinner\n\nTemple 20s & 30s-
  Pre-fast Italian Dinner\n\nCome learn about the High holidays while enjoy
 ing some italian food!\n\nRSVP for address.\n\nFollow the link below to RS
 VP:\n\nhttps://thetemple20sand30s.weebly.com/pre-fast-italian-dinner-rsvp.
 html
DTSTART;TZID=America/New_York:20180915T190000
DTEND;TZID=America/New_York:20180915T213000
END:VEVENT
END:VCALENDAR
