BEGIN:VCALENDAR
PRODID:-//eluceo/ical//2.0/EN
VERSION:2.0
CALSCALE:GREGORIAN
BEGIN:VEVENT
UID:97265722d25fe4651689fbb30b8a6a28
DTSTAMP:20260420T220609Z
SUMMARY:7PM Temple - JAFTY-led First Friday Worship
DESCRIPTION:Jewish Federation & Foundation of Northeast Florida\nCommunity 
 Calendar\nhttps://jewishjacksonville.org/jewish-federation-of-jacksonville
 -calendar/7pm-temple---jafty-led-first-friday-worship-8576\n\n7PM Temple -
  JAFTY-led First Friday Worship
DTSTART;TZID=America/New_York:20131004T190000
DTEND;TZID=America/New_York:20131004T220000
END:VEVENT
END:VCALENDAR
