BEGIN:VCALENDAR
PRODID:-//eluceo/ical//2.0/EN
VERSION:2.0
CALSCALE:GREGORIAN
BEGIN:VEVENT
UID:ea09301c3942610b96a9d38426c71389
DTSTAMP:20260424T050440Z
SUMMARY:7PM Temple "Let our People Go\, Part II: Ending the Demand...."
DESCRIPTION:Jewish Federation & Foundation of Northeast Florida\nCommunity 
 Calendar\nhttps://jewishjacksonville.org/jewish-federation-of-jacksonville
 -calendar/7pm-te-mple-let-our-people-go-part-ii-ending-the-demand\n\n"Let 
 Our People Go\, Part II: Ending the Demand for Human Trafficking in Our Co
 mmunity" will take place at The Temple on April 8th @7pm. \n\n \n\nRabb
 i Rachael Bregman will be discussing her personal story about human traff
 icking and sharing various methods to end demand.
DTSTART;TZID=America/New_York:20150408T190000
DTEND;TZID=America/New_York:20150408T220000
END:VEVENT
END:VCALENDAR
