BEGIN:VCALENDAR
PRODID:-//eluceo/ical//2.0/EN
VERSION:2.0
CALSCALE:GREGORIAN
BEGIN:VEVENT
UID:863e2ecb758c97288196ed4990437ac1
DTSTAMP:20260420T124201Z
SUMMARY:7PM River Garden Senior Services Board Meeting
DESCRIPTION:Jewish Federation & Foundation of Northeast Florida\nCommunity 
 Calendar\nhttps://jewishjacksonville.org/jewish-federation-of-jacksonville
 -calendar/7pm-river-garden-senior-services-board-meeting9\n\nRiver Garden 
 Senior Services Board Meeting - 7:00 p.m. at River Garden Senior Services.
DTSTART;TZID=America/New_York:20160627T190000
DTEND;TZID=America/New_York:20160627T200000
END:VEVENT
END:VCALENDAR
