BEGIN:VCALENDAR
PRODID:-//eluceo/ical//2.0/EN
VERSION:2.0
CALSCALE:GREGORIAN
BEGIN:VEVENT
UID:adbf980f839f150c4377eda03f165578
DTSTAMP:20260422T105353Z
SUMMARY:7PM River Garden Board Meeting
DESCRIPTION:Jewish Federation & Foundation of Northeast Florida\nCommunity 
 Calendar\nhttps://jewishjacksonville.org/jewish-federation-of-jacksonville
 -calendar/7pm-river-garden-board-meeting\n\n7PM River Garden Board Meeting
DTSTART;TZID=America/New_York:20130128T190000
DTEND;TZID=America/New_York:20130128T210000
END:VEVENT
END:VCALENDAR
