BEGIN:VCALENDAR
PRODID:-//eluceo/ical//2.0/EN
VERSION:2.0
CALSCALE:GREGORIAN
BEGIN:VEVENT
UID:613f2ff2929791449a53280db13c1803
DTSTAMP:20260420T174303Z
SUMMARY:7pm - Richard Hurowitz - In the Garden of the Righteous May
DESCRIPTION:Jewish Federation & Foundation of Northeast Florida\nCommunity 
 Calendar\nhttps://jewishjacksonville.org/jewish-federation-of-jacksonville
 -calendar/7pm-richard-hurowitz-in-the-garden-of-the-righteous-may\n\n7pm -
  Richard Hurowitz - In the Garden of the Righteous May\n\nRescheduled\n\nA
  brilliant description of the brutality of the Holocaust and the collabora
 tion\, acquiescence\, and passivity of millions\, as well as the people wh
 o risked their lives to save others out of a sense of shared humanity. Ric
 hard Hurowitz joins us in person to share the illuminating and inspiring p
 rofiles that pay tribute to the incredible deeds of the little-known heroe
 s who saved countless lives during the Holocaust.\n...
DTSTART;TZID=America/New_York:20240501T190000
DTEND;TZID=America/New_York:20240501T210000
END:VEVENT
END:VCALENDAR
