BEGIN:VCALENDAR
PRODID:-//eluceo/ical//2.0/EN
VERSION:2.0
CALSCALE:GREGORIAN
BEGIN:VEVENT
UID:038514051e7d1c73fa82cd726ac434af
DTSTAMP:20260422T105303Z
SUMMARY:7PM Programming - Adult Sukkot Dinner
DESCRIPTION:Jewish Federation & Foundation of Northeast Florida\nCommunity 
 Calendar\nhttps://jewishjacksonville.org/jewish-federation-of-jacksonville
 -calendar/7pm-programming---adult-sukkot-dinner-8336\n\n7PM JJC Sukkot Din
 ner
DTSTART;TZID=America/New_York:20130920T190000
DTEND;TZID=America/New_York:20130920T220000
END:VEVENT
END:VCALENDAR
