BEGIN:VCALENDAR
PRODID:-//eluceo/ical//2.0/EN
VERSION:2.0
CALSCALE:GREGORIAN
BEGIN:VEVENT
UID:e2d462be60fc9e35e3c3eb9cc3de7f2d
DTSTAMP:20260425T115323Z
SUMMARY:7PM P2G Meeting
DESCRIPTION:Jewish Federation & Foundation of Northeast Florida\nCommunity 
 Calendar\nhttps://jewishjacksonville.org/jewish-federation-of-jacksonville
 -calendar/7pm-p2g-meeting\n\nIsrael Partnership Meeting (P2G). 7:00 p.m.
DTSTART;TZID=America/New_York:20151008T190000
DTEND;TZID=America/New_York:20151009T200000
END:VEVENT
END:VCALENDAR
