BEGIN:VCALENDAR
PRODID:-//eluceo/ical//2.0/EN
VERSION:2.0
CALSCALE:GREGORIAN
BEGIN:VEVENT
UID:74d65637981049b5bd2b149760722bf8
DTSTAMP:20260421T190702Z
SUMMARY:7PM - JNF Tree of Life Dinner
DESCRIPTION:Jewish Federation & Foundation of Northeast Florida\nCommunity 
 Calendar\nhttps://jewishjacksonville.org/jewish-federation-of-jacksonville
 -calendar/7pm-jnf-tree-of-life-dinner\n\nJewish National Fund Tree of Life
 ™ Award Dinner\n\nWednesday\, Nov. 8\, 2017\n\nJacksonville Jewish Cente
 r\n\n3662 Crown Point Rd\n\nJacksonville\, FL 32257\n\nRegistration: 6:00
  p.m.\n\nProgram: 7:00 p.m.\n\nFor more information\, please contact: La
 ura Abramson at Labramson@jnf.org or (561)447-9733
DTSTART;TZID=America/New_York:20171108T190000
DTEND;TZID=America/New_York:20171108T210000
END:VEVENT
END:VCALENDAR
