BEGIN:VCALENDAR
PRODID:-//eluceo/ical//2.0/EN
VERSION:2.0
CALSCALE:GREGORIAN
BEGIN:VEVENT
UID:5eec447d2f9ab23daff8c6127a2dcc68
DTSTAMP:20260420T144023Z
SUMMARY:7PM JJC MJGDS Program - k-5 Back to School Night
DESCRIPTION:Jewish Federation & Foundation of Northeast Florida\nCommunity 
 Calendar\nhttps://jewishjacksonville.org/jewish-federation-of-jacksonville
 -calendar/7pm-jjc-mjgds-program---k-5-back-to-school-night-8344\n\n7PM MJG
 DS Back to School
DTSTART;TZID=America/New_York:20131002T190000
DTEND;TZID=America/New_York:20131002T203000
END:VEVENT
END:VCALENDAR
