BEGIN:VCALENDAR
PRODID:-//eluceo/ical//2.0/EN
VERSION:2.0
CALSCALE:GREGORIAN
BEGIN:VEVENT
UID:8414546c9735de0fac0ddb9537f55925
DTSTAMP:20260420T203320Z
SUMMARY:7PM JJC Men's Club
DESCRIPTION:Jewish Federation & Foundation of Northeast Florida\nCommunity 
 Calendar\nhttps://jewishjacksonville.org/jewish-federation-of-jacksonville
 -calendar/7pm-jjc-mens-club-48526\n\n7PM Men's Club Suns Game
DTSTART;TZID=America/New_York:20130813T190000
DTEND;TZID=America/New_York:20130813T213000
END:VEVENT
END:VCALENDAR
